BEGIN:VCALENDAR
VERSION:2.0
CALSCALE:GREGORIAN
PRODID:-//MyApp//Calendar 1.0//EN
BEGIN:VEVENT
METHOD:PUBLISH
UID:35379@regionalniportaly.cz
DTSTAMP:20260422T223335Z
DTSTART;VALUE=DATE:20241021
DTEND;VALUE=DATE:20241022
SUMMARY:Kafe u OSMANYHO | Moravské Budějovice
DESCRIPTION:Zábavný pořad plný neuvěřitelných historek v podání Osmanyho Laffity míří do Moravských Budějovic!Originální pořad s populární osobností módního světa.Devadesát minut neuvěřitelných historek ze života Osmanyho Laffity\, při kterých se divák baví od první chvíle. Osmany odhalí i to\, co mělo zůstat utajeno! A bez cenzury!Moderuje Eva Decastelo\, hudební host Bára Mottlová.
LOCATION:Moravské Budějovice
END:VEVENT
END:VCALENDAR