BEGIN:VCALENDAR
VERSION:2.0
CALSCALE:GREGORIAN
PRODID:-//MyApp//Calendar 1.0//EN
BEGIN:VEVENT
METHOD:PUBLISH
UID:35136@regionalniportaly.cz
DTSTAMP:20260422T182310Z
DTSTART;VALUE=DATE:20230921
DTEND;VALUE=DATE:20230922
SUMMARY:Němá tajemství
DESCRIPTION:Martin\, v důsledku těžkého úrazu ztratí možnost komunikovat se světem a svět s ním. Kolem však zůstaly všechny důležité ženy jeho života. Manželka Erika\, maminka Dana a veterinářka Jana\, jejíž kůň způsobil Martinovi úraz. Právě ony vypráví Martinův příběh. Každá z nich má však svou verzi událostí. O vše se navíc začíná zajímat policie. Martin je totiž mrtvý a někdo mu ke smrti pomohl. Postupné odhalování pravdy vede k nečekaným obratům\, které spolu s divákem odkrývají vrstvu po vrstvě dlouho zamlčovaná traumata a rozplétají síť chytrých\, malých lží. Občerstvení zajištěno. Začátek promítání ve 20.00. Vstupné 140 Kč. Další informace na mbsokol.cz
LOCATION:Moravské Budějovice
END:VEVENT
END:VCALENDAR