BEGIN:VCALENDAR
VERSION:2.0
CALSCALE:GREGORIAN
PRODID:-//MyApp//Calendar 1.0//EN
BEGIN:VEVENT
METHOD:PUBLISH
UID:35058@regionalniportaly.cz
DTSTAMP:20260422T182808Z
DTSTART;VALUE=DATE:20230911
DTEND;VALUE=DATE:20230912
SUMMARY:Steve Clarke Trio (USA)
DESCRIPTION:Steve Clarke – baskytara (USA)\, Walter Fischbacher (USA) – klávesy\, Alex Bernath (D) – bicíSteve Clarke je vynikající jazzový baskytarista z&nbsp\;Connecticutu (USA). Doposud vydal osm sólových alb) a 58 alb s dalšími umělci. Steve koncertuje více než 25 let pravidelně v USA i Evropě. Clarkovy přirozeně plynoucí kompozice obsahují mnoho zručně uchopené fusionové inspirace\, zatímco jeho plný tón a důmyslné linky a slapovací technika uchvacují publikum… Jde o řemeslně dokonalé sety\,&nbsp\;chytlavé groovey a oslnivá sóla.Ceny&nbsp\;vstupenek:- v předprodeji v síti&nbsp\;smsticket.cz a TIC Moravské Budějovice za 150\,- Kč- na místě před začátkem akce za 200\,-&nbsp\;KčNa čepu plzeňská hladinka.&nbsp\;&nbsp\;
LOCATION:Moravské Budějovice
END:VEVENT
END:VCALENDAR