BEGIN:VCALENDAR
VERSION:2.0
CALSCALE:GREGORIAN
PRODID:-//MyApp//Calendar 1.0//EN
BEGIN:VEVENT
METHOD:PUBLISH
UID:34897@regionalniportaly.cz
DTSTAMP:20260422T165220Z
DTSTART;VALUE=DATE:20230910
DTEND;VALUE=DATE:20230911
SUMMARY:Zkrocení zlé ženy
DESCRIPTION:Slavnostní zahájení Horákova Horáckého festivalu hrou Zkrocení zlé ženy v podání divadla Špatně Namíchaný Bublifuk.Předprodej vstupenek v síti smsticket.cz a turistickém informačním centru Moravské Budějovice.
LOCATION:Moravské Budějovice
END:VEVENT
END:VCALENDAR