BEGIN:VCALENDAR
VERSION:2.0
CALSCALE:GREGORIAN
PRODID:-//MyApp//Calendar 1.0//EN
BEGIN:VEVENT
METHOD:PUBLISH
UID:34768@regionalniportaly.cz
DTSTAMP:20260422T182122Z
DTSTART;VALUE=DATE:20230917
DTEND;VALUE=DATE:20230918
SUMMARY:Černá díra aneb jak zase vyhrál zdravý rozum
DESCRIPTION:Třetí představení v rámci Horákova Horáckého festivalu. Divadlo pro děti&nbsp\;z autorské dílny dětského divadelního dramaťáku&nbsp\;Odpadkový koš při DDM Budík.Předprodej vstupenek v síti smsticket.cz a turistickém informačním centru Moravské Budějovice.
LOCATION:Moravské Budějovice
END:VEVENT
END:VCALENDAR