BEGIN:VCALENDAR
VERSION:2.0
CALSCALE:GREGORIAN
PRODID:-//MyApp//Calendar 1.0//EN
BEGIN:VEVENT
METHOD:PUBLISH
UID:34767@regionalniportaly.cz
DTSTAMP:20260422T165229Z
DTSTART;VALUE=DATE:20230920
DTEND;VALUE=DATE:20230921
SUMMARY:Královny
DESCRIPTION:Kvůli nemoci&nbsp\;se akce přesouvá na 20.9.2023 - 19:00. Všechny původní vstupenky zůstávají v platnosti. Omlouváme se za komplikace.&nbsp\;Druhé představení v rámci Horákova Horáckého festivalu. Hra Královny v podání ochotnického divadelního tria Tři Grácie.Předprodej vstupenek v síti smsticket.cz a turistickém informačním centru Moravské Budějovice.
LOCATION:Moravské Budějovice
END:VEVENT
END:VCALENDAR