BEGIN:VCALENDAR
VERSION:2.0
CALSCALE:GREGORIAN
PRODID:-//MyApp//Calendar 1.0//EN
BEGIN:VEVENT
METHOD:PUBLISH
UID:34542@regionalniportaly.cz
DTSTAMP:20260422T183233Z
DTSTART;VALUE=DATE:20230917
DTEND;VALUE=DATE:20230918
SUMMARY:Šest v tom
DESCRIPTION:Čtvrté a poslední představení v rámci Horákova horáckého festivalu.Manželé Rogers a Daisy Braunovi se shodou okolností dostanou do tíživé životní situace. Za každou cenu potřebují peníze\, stejně jako jejich rodinný přítel – kameraman Alan Barker. Jak se ale od pomyslného dna odrazit? Přijdou na spásný nápad\, založí si Seznamovací agenturu DAR.Následující\, divácky vděčné situace ukazují\, proč "Šest v tom" patří už několik let mezi nejlepší současné komedie. Dialogy ostré jako bič a vtip nenechají diváky ani na chvíli vydechnout.Originální komedie nabitá humorem\, přináší nejen mnoho vtipných scén\, ale i nečekaný příběh lásky a překvapivý happy-end.Hrají: Jaroslav Sypal\, Jaroslava&nbsp\;Stránská\, Slávek Boura\, Eva Hráská\, Petr VojnarPředprodej vstupenek v síti smsticket.cz a v turistickém informačním centru Moravské Budějovice.Vstupné na místě:zóna&nbsp\;I&nbsp\;- 350 Kčzóna&nbsp\;II - 300 Kč
LOCATION:Moravské Budějovice
END:VEVENT
END:VCALENDAR