BEGIN:VCALENDAR
VERSION:2.0
CALSCALE:GREGORIAN
PRODID:-//MyApp//Calendar 1.0//EN
BEGIN:VEVENT
METHOD:PUBLISH
UID:33593@regionalniportaly.cz
DTSTAMP:20260422T165154Z
DTSTART;VALUE=DATE:20230827
DTEND;VALUE=DATE:20230828
SUMMARY:Letní kino: Život kotěte
DESCRIPTION:Vrnilka je živé a zvědavé kotě\, které teprve objevuje život na pařížských střechách. Jeho osud se změní\, když se ho ujme desetiletá Clémence a odveze ho do venkovského domu v srdci hor. Tím začíná jejich neobyčejné dobrodružství\, které oba navždy změní.Předprodej vstupenek v síti smsticket.cz a v turistickém informačním centru Moravské Budějovice.
LOCATION:Moravské Budějovice
END:VEVENT
END:VCALENDAR