BEGIN:VCALENDAR
VERSION:2.0
CALSCALE:GREGORIAN
PRODID:-//MyApp//Calendar 1.0//EN
BEGIN:VEVENT
METHOD:PUBLISH
UID:33589@regionalniportaly.cz
DTSTAMP:20260422T181831Z
DTSTART;VALUE=DATE:20230820
DTEND;VALUE=DATE:20230821
SUMMARY:Letní kino: Grand Prix
DESCRIPTION:Komedie režiséra Jana Prušinovského (Most!\, Okresní přebor) vypráví příběh dvou bratranců Romana (Kryštof Hádek) a Emila (Robin Ferro)\, jejichž snem je dostat se na závody Formule 1. Roman vede ušmudlaný autobazar na okraji města\, má tři děti a živelnou manželku (Anna Kameníková). Emil\, horlivý milovník pořádku\, si piplá svou autodílnu v centru a o autech ví skoro všechno. Když jednoho dne Emil v televizní soutěži vyhraje vstupenky na Velkou cenu Španělska v Barceloně\, netuší ani jeden z nich\, že jejich výlet za snem se brzy změní na divokou jízdu napříč Evropou. Zvláště když se na ně nabalí Štětka (Štěpán Kozub)\, Romanův kamarád a místní magnet na problémy.Předprodej vstupenek v síti smsticket.cz a v turistickém informačním centru Moravské Budějovice.
LOCATION:Moravské Budějovice
END:VEVENT
END:VCALENDAR