BEGIN:VCALENDAR
VERSION:2.0
CALSCALE:GREGORIAN
PRODID:-//MyApp//Calendar 1.0//EN
BEGIN:VEVENT
METHOD:PUBLISH
UID:33493@regionalniportaly.cz
DTSTAMP:20260422T181923Z
DTSTART;VALUE=DATE:20230825
DTEND;VALUE=DATE:20230826
SUMMARY:Loučení s prázdninami
DESCRIPTION:Zveme Vás na další pokračování tradičního konco-prázdninového večírku.&nbsp\;Těšíte se? My na vás moc!Jak je zvykem\, sejdeme se poslední srpnový pátek v areálu letního kina ve znamení muziky\, kultury\, kámošů a super atmosféry.Na baru čepované pivo a nálož míchaných drinků!Předprodej vstupenek do 25.8. do 15:00 v síti smsticket.cz a v turistickém informačním centru Moravské Budějovice za cenu 140\,- Kč\, potom už pouze na místě za 200\,- Kč.&nbsp\;
LOCATION:Moravské Budějovice
END:VEVENT
END:VCALENDAR