BEGIN:VCALENDAR
VERSION:2.0
CALSCALE:GREGORIAN
PRODID:-//MyApp//Calendar 1.0//EN
BEGIN:VEVENT
METHOD:PUBLISH
UID:33154@regionalniportaly.cz
DTSTAMP:20260422T224942Z
DTSTART;VALUE=DATE:20230527
DTEND;VALUE=DATE:20230528
SUMMARY:Na Heřmany - otevíráme
DESCRIPTION:V sobotu 27. 5. se sejdeme přímo na kopci.Děti se mohou těšit na loutkové divadlo\, po kterém nám večerní atmosféru zpříjemní kytarová škola Drahy Urbánkové. Celé odpoledne a večer bude “neřízený” raut. Můžete přinést něco dobrého na zub a sdílet tak váš oblíbený recept. K dispozici bude také ohniště a několik grilů\, na kterých si můžete váš steak či klobásu připravit.Pivo a limo bude točené\, připravené budeme mít špekáčky. Zbytek necháme na vás\, přinést si můžete cokoli máte rádi. Můžete si vzít deku i piknikový set.\nProgram15:15 Loutkové divadlo pro děti - http://www.drevenedivadlo.cz/ (Představení Princezna na hrášku)16:45 Slavnostní křest17:00 Kytarová škola Drahy Urbánkové\n 
LOCATION:Moravské Budějovice
END:VEVENT
END:VCALENDAR