BEGIN:VCALENDAR
VERSION:2.0
CALSCALE:GREGORIAN
PRODID:-//MyApp//Calendar 1.0//EN
BEGIN:VEVENT
METHOD:PUBLISH
UID:33112@regionalniportaly.cz
DTSTAMP:20260422T181647Z
DTSTART;VALUE=DATE:20230612
DTEND;VALUE=DATE:20230613
SUMMARY:The Zac Schulze Gang (GB)
DESCRIPTION:Tvrdé a úderné bluesrockové trio z hrabství Kent ve Velké Británii.V roce 2092 se skupina časových banditů vzdalačné budoucnosti rozhodla\, že přenesou blues rock s fúzemi každého kdy vytvořeného žánru do generací minulosti. Ti časoví bandité se vrátili zpět do konce 90. let\, aby přenesli tyto kouzelné síly blues do tří mladých dětí. Tyto děti vyrostly a když dospěly\, začaly pít. Po skončení pití se rozhodly založit kapelu. Tato kapela měla být největší kapelou v celé galaxii\, zachránci hudby\, jak ji známe.Jejich úkol byl porazit zlé síly budoucnosti a přinést radost obyvatelům vesmíru prostřednictvím svého mixu blues rockových skladeb a eklektických cover verzí.Tato kapela měla být nazvána...The Zac Schulze Gang.Cena vstupenek:- v předprodeji v síti&nbsp\;smsticket.cz a TIC Moravské Budějovice&nbsp\;150\,- Kč- na místě před začátkem akce za 200\,-&nbsp\;KčNa čepu plzeňská hladinka.
LOCATION:Moravské Budějovice
END:VEVENT
END:VCALENDAR