BEGIN:VCALENDAR
VERSION:2.0
CALSCALE:GREGORIAN
PRODID:-//MyApp//Calendar 1.0//EN
BEGIN:VEVENT
METHOD:PUBLISH
UID:33111@regionalniportaly.cz
DTSTAMP:20260422T165326Z
DTSTART;VALUE=DATE:20230610
DTEND;VALUE=DATE:20230611
SUMMARY:Namrous Fest Vůl. 5
DESCRIPTION:Program akce:17:00 - otevření areálu18:00 - Kúrovec19:00 - Zodiac20:00 - Devotion21:00 - Namrous konspirace22:00 - Bermůdskej Kvádr23:00 - Aralyon
LOCATION:Moravské Budějovice
END:VEVENT
END:VCALENDAR