BEGIN:VCALENDAR
VERSION:2.0
CALSCALE:GREGORIAN
PRODID:-//MyApp//Calendar 1.0//EN
BEGIN:VEVENT
METHOD:PUBLISH
UID:32437@regionalniportaly.cz
DTSTAMP:20260422T152301Z
DTSTART;VALUE=DATE:20230526
DTEND;VALUE=DATE:20230527
SUMMARY:Kocour v botách: Poslední přání
DESCRIPTION:Když máte k&nbsp\;dispozici devět životů\, tak vám na tom\, že tu a&nbsp\;tam něco odskáčete\, vůbec nezáleží\, zvlášť když jste legendární hrdina\, který se dobrovolně vrhá do těch nejbláznivějších dobrodružství. Kocour v&nbsp\;botách právě zachránil obyvatele jednoho městečka před řáděním zuřivého obra\, jenže při&nbsp\;tom přišel o&nbsp\;předposlední ze svých životů. Takové zjištění by zamávalo s&nbsp\;mnohem odolnějším charakterem. Kocour se proto rozhodne pověsit boty na hřebík a&nbsp\;žít dál v&nbsp\;relativním bezpečí kočičího útulku jako obyčejný chlupatý mazlíček. To by ovšem nesměl mít v&nbsp\;patách drsnou Zlatovlásku a&nbsp\;její tři drsné medvědí parťáky\, kteří s&nbsp\;ním mají nevyrovnané účty\, a&nbsp\;také tajemného Vlka\, který šermuje jako ďábel (a&nbsp\;možná taky ďábel je). Naděje naštěstí umírá poslední – v&nbsp\;Kocourově případě má podobu legendární Hvězdy přání\, která by mu mohla obnovit ztracené životy. Jenže taková vzácná věc se nesmírně těžko hledá. Kocour v&nbsp\;botách musí spolknout hrdost a&nbsp\;uzavřít příměří se svou věčnou soupeřkou\, kočičí zlodějkou Čiči Pacičkou. Spolu s&nbsp\;ní a&nbsp\;novým kamarádem Psem\, který kdovíproč předstírá\, že je kočka\, se vydává vstříc pohádkovému dobrodružství\, na jehož konci na všechny čeká odměna. Tedy pokud najdou Hvězdu přání jako první.
LOCATION:Moravské Budějovice
END:VEVENT
END:VCALENDAR