BEGIN:VCALENDAR
VERSION:2.0
CALSCALE:GREGORIAN
PRODID:-//MyApp//Calendar 1.0//EN
BEGIN:VEVENT
METHOD:PUBLISH
UID:32436@regionalniportaly.cz
DTSTAMP:20260422T152251Z
DTSTART;VALUE=DATE:20230511
DTEND;VALUE=DATE:20230512
SUMMARY:Ostrov
DESCRIPTION:Jiří Langmajer\, Jana Plodková a&nbsp\;opuštěný ostrůvek v&nbsp\;tropickém ráji. To jsou aktéři dobrodružné romantické komedie Ostrov\, v&nbsp\;níž dva lidé\, kteří už spolu nechtějí být\, zjistí\, že hádky a&nbsp\;spory jsou k&nbsp\;ničemu. V&nbsp\;divočině obzvlášť.Dobrodružná romantická komedie Ostrov vypráví o&nbsp\;jedné katastrofální dovolené\, která pro dva rozhádané manžele skončí několikaměsíční robinsonádou na opuštěném tropickém ostrůvku. Pro záchranu a&nbsp\;přežití jim pak nezbývá nic jiného\, než si začít znovu naslouchat a&nbsp\;najít k&nbsp\;sobě cestu zpátky. Jejich příběh začíná v&nbsp\;luxusním exotickém resortu\, kde jsou Alice (Jana Plodková) a&nbsp\;Richard (Jiří Langmajer) konečně po&nbsp\;letech na dovolené\, jenže věci se zvrtnou. Richard Alici oznámí\, že se chce rozvést. Alice je zaskočená a&nbsp\;jejich exotická dovolená tím okamžitě končí. Alice chce odjet domů ihned\, je jedno jak. Richard tedy sežene odvoz nákladním letadlem\, protože nic jiného neletí. Jejich let ale ztroskotá a&nbsp\;Richard s&nbsp\;Alicí uvíznou na opuštěném ostrově uprostřed oceánu. Katastrofa je sice katastrofa\, ale i&nbsp\;tak se Alice rozhodne\, že budou žít odděleně a&nbsp\;rozdělí ostrov na dvě poloviny. Jedna je Richardova a&nbsp\;druhá její. Netrvá to dlouho a&nbsp\;uvědomí si\, že aby na ostrově přežili\, musí spolupracovat a&nbsp\;také si vyříkat spoustu věcí. Režisér Rudolf Havlík film Ostrov přibližuje slovy: „Mám rád Richarda a&nbsp\;Alici a&nbsp\;to\, jakým způsobem je Jana s&nbsp\;Jirkou zahráli. Jany humor a&nbsp\;Jirkova nabručenost spolu tak nádherně fungují\, že se mi pokaždé rozbuší srdce\, jen když je vidím ve scéně společně. Ostrov je dobrodružná komedie v&nbsp\;pravém slova smyslu a&nbsp\;všichni\, kteří rádi cestují\, nebo mají jednoduše rádi dobrodružství a&nbsp\;romantiku\, si přijdou na své.“
LOCATION:Moravské Budějovice
END:VEVENT
END:VCALENDAR