BEGIN:VCALENDAR
VERSION:2.0
CALSCALE:GREGORIAN
PRODID:-//MyApp//Calendar 1.0//EN
BEGIN:VEVENT
METHOD:PUBLISH
UID:32435@regionalniportaly.cz
DTSTAMP:20260422T151506Z
DTSTART;VALUE=DATE:20230427
DTEND;VALUE=DATE:20230428
SUMMARY:Buď chlap!
DESCRIPTION:Pavlovi sice táhne na čtyřicet\, ale pořád ještě úplně nedospěl. Využívá pohodlný „mama hotel“\, pracuje jako fotograf na průměrných zakázkách a&nbsp\;chybí mu odvaha dělat v&nbsp\;životě to\, co by ho skutečně bavilo. Tu získá až ve chvíli\, kdy na jedné akci náhodou potká svou lásku z&nbsp\;dětství Terezu a&nbsp\;prožije s&nbsp\;ní dobrodružnou noc. Tereza však není připravena opustit svůj dosavadní život úspěšné manažerky a&nbsp\;budoucí majitelky prosperující rodinné firmy pro někoho\, kdo podle ní není opravdový chlap. Pavel se tedy rozhodne odjet na výcvikový tábor do Tater s&nbsp\;cílem se přesně takovým chlapem stát. Horský tábor vede bývalý mariňák Weisner\, jenž učí vztahové zoufalce nejen jak svádět ženy\, ale také jak přežít v&nbsp\;divočině\, jak čelit výzvám\, prostě jak se stát mužem\, kterého každá žena chce. Pavel tak musí překonat sám sebe při&nbsp\;„hledání“ chlapa\, po&nbsp\;kterém Tereza touží… Jakub Prachař a&nbsp\;Tereza Ramba jako dvojice\, která dostane od života druhou šanci\, Ondřej Sokol v&nbsp\;roli ostříleného mariňáka Weisnera.
LOCATION:Moravské Budějovice
END:VEVENT
END:VCALENDAR