BEGIN:VCALENDAR
VERSION:2.0
CALSCALE:GREGORIAN
PRODID:-//MyApp//Calendar 1.0//EN
BEGIN:VEVENT
METHOD:PUBLISH
UID:19765@regionalniportaly.cz
DTSTAMP:20260421T115617Z
DTSTART;VALUE=DATE:20190419
DTEND;VALUE=DATE:20190420
SUMMARY:Kurt Cobain NIRVANA Tribute (UA)
DESCRIPTION:Od 20:00 hod.\,MKS Beseda\n\nProgram plný největších hitů legendární kapely Nirvana s dokonalým dvojníkem Kurta Cobaina v čele ukrajinského uznávaného a oceňovaného revivalu.\n\nVstupné v předprodeji: 190\,- Kč\, vstupné na místě: 240\,- Kč.
LOCATION:Moravské Budějovice
END:VEVENT
END:VCALENDAR