BEGIN:VCALENDAR
VERSION:2.0
CALSCALE:GREGORIAN
PRODID:-//MyApp//Calendar 1.0//EN
BEGIN:VEVENT
METHOD:PUBLISH
UID:19373@regionalniportaly.cz
DTSTAMP:20260426T032644Z
DTSTART;VALUE=DATE:20190316
DTEND;VALUE=DATE:20190317
SUMMARY:XXIII. ročník Ochutnávky jihomoravských vín
DESCRIPTION:Od 10:00 hod.\, MKS Beseda – velký sál\n\nTradiční přehlídka vynikajících vín. Od 15 hodin hraje cimbálová muzika Sylván\, od 20 hodin skupina Dynamic. Začátek v 10 hodin. \n\nVstupné 90\,- Kč\, důchodci 60\,- Kč\, po 19. hodině jednotné 60\,- Kč.
LOCATION:Moravské Budějovice
END:VEVENT
END:VCALENDAR