BEGIN:VCALENDAR
VERSION:2.0
CALSCALE:GREGORIAN
PRODID:-//MyApp//Calendar 1.0//EN
BEGIN:VEVENT
METHOD:PUBLISH
UID:18876@regionalniportaly.cz
DTSTAMP:20260426T033222Z
DTSTART;VALUE=DATE:20190303
DTEND;VALUE=DATE:20190304
SUMMARY:Zkrocení zlé ženy
DESCRIPTION:Od 18 hodin\, MKS Beseda – velký sál\n\nDivadelní hra Williama Shakespeara v podání Českého divadelního spolku z Vídně. \n\nZačátek v 18 hodin. Vstupné v předprodeji 150\,- Kč\, na místě 190\,- Kč
LOCATION:Moravské Budějovice
END:VEVENT
END:VCALENDAR