BEGIN:VCALENDAR
VERSION:2.0
CALSCALE:GREGORIAN
PRODID:-//MyApp//Calendar 1.0//EN
BEGIN:VEVENT
METHOD:PUBLISH
UID:17363@regionalniportaly.cz
DTSTAMP:20260424T050300Z
DTSTART;VALUE=DATE:20181026
DTEND;VALUE=DATE:20181027
SUMMARY:Výstava obcí Moravskobudějovického mikroregionu od r. 1918 dodnes
DESCRIPTION:Moravské Budějovice\, zámecké konírny\n\nVýstava otevřena od 20. do 26. 10. 2018\n\npo – pá 10 – 12 a 14 – 16 hodin. \n\nVstupné dobrovolné.
LOCATION:Moravské Budějovice
END:VEVENT
END:VCALENDAR