BEGIN:VCALENDAR
VERSION:2.0
CALSCALE:GREGORIAN
PRODID:-//MyApp//Calendar 1.0//EN
BEGIN:VEVENT
METHOD:PUBLISH
UID:14962@regionalniportaly.cz
DTSTAMP:20260425T233327Z
DTSTART;VALUE=DATE:20180419
DTEND;VALUE=DATE:20180420
SUMMARY:Přednáška „100 let vzniku Československa“
DESCRIPTION:Od 17:00 hod.\, sál SDH\n\nPřednáška mjr. PhDr. Stanislava Balíka na téma: 100 let vzniku Československa.\n\nVstupné zdarma
LOCATION:Moravské Budějovice
END:VEVENT
END:VCALENDAR